BEGIN:VCALENDAR
VERSION:2.0
PRODID:-//S.D.Scacchistica Milanese - ECPv6.15.20//NONSGML v1.0//EN
CALSCALE:GREGORIAN
METHOD:PUBLISH
X-ORIGINAL-URL:https://sdssm.servehttp.com
X-WR-CALDESC:Eventi per S.D.Scacchistica Milanese
REFRESH-INTERVAL;VALUE=DURATION:PT1H
X-Robots-Tag:noindex
X-PUBLISHED-TTL:PT1H
BEGIN:VTIMEZONE
TZID:Europe/Paris
BEGIN:DAYLIGHT
TZOFFSETFROM:+0100
TZOFFSETTO:+0200
TZNAME:CEST
DTSTART:20180325T010000
END:DAYLIGHT
BEGIN:STANDARD
TZOFFSETFROM:+0200
TZOFFSETTO:+0100
TZNAME:CET
DTSTART:20181028T010000
END:STANDARD
BEGIN:DAYLIGHT
TZOFFSETFROM:+0100
TZOFFSETTO:+0200
TZNAME:CEST
DTSTART:20190331T010000
END:DAYLIGHT
BEGIN:STANDARD
TZOFFSETFROM:+0200
TZOFFSETTO:+0100
TZNAME:CET
DTSTART:20191027T010000
END:STANDARD
BEGIN:DAYLIGHT
TZOFFSETFROM:+0100
TZOFFSETTO:+0200
TZNAME:CEST
DTSTART:20200329T010000
END:DAYLIGHT
BEGIN:STANDARD
TZOFFSETFROM:+0200
TZOFFSETTO:+0100
TZNAME:CET
DTSTART:20201025T010000
END:STANDARD
END:VTIMEZONE
BEGIN:VEVENT
DTSTART;TZID=Europe/Paris:20190502T190000
DTEND;TZID=Europe/Paris:20190526T235900
DTSTAMP:20260423T010751
CREATED:20190511T142932Z
LAST-MODIFIED:20191113T111546Z
UID:10000003-1556823600-1558915140@sdssm.servehttp.com
SUMMARY:TORNEO SERALE “PRIMAVERA 2019” OPEN AMATORI CON ELO
DESCRIPTION:TORNEO SERALE “PRIMAVERA 2019” OPEN AMATORI CON ELO > 2200 \n\n\n\n2 – 23  MAGGIO  –  7 turni di gioco al Martedì e Giovedì \n\n\n\n\n\n\nTORNEO SERALE “PRIMAVERA 2019” OPEN AMATORI CON ELO <2200 \n\n\n\nOpen Amatori riservato a giocatori con Elo inferiore a 2200 in regola con il tesseramento FSI\, su 7 turni con inizio alle ore 20.30. \n\n\n\nSi gioca Martedì e Giovedì\, dall’2 al 23 Maggio. \n\n\n\nSETTE turni a sistema Svizzero\, spareggio Buchholz. \n\n\n\nIL TORNEO E’ VALIDO PER LE VARIAZIONE ELO FIDE/ITALIA. \n\n\n\n\n\n\n\nBANDO TORNEODownload\n\n\n\nTURNI E CLASSIFICHE \n\n\n\nGLI ABBINAMENTI SONO PUBBLICATI A PURO TITOLO INFORMATIVO E POSSONO SUBIRE VARIAZIONI IN BASE A DECISIONE ARBITRALE\, COME DA RTF VIGENTE\, PRIMA DELL’INIZIO DEL TURNO DI GIOCO \n\n\n\nI GIOCATORI CON ABBINAMENTO “BYE” DEBBONO ESSERE PRESENTI IN SALA GIOCO ALL’INIZIO DEL TURNO \n\n\n\n\n\n\n  Giovedì\n  \n  02 Maggio  \n  \n  19.45\n   \n  \n  Chiusura\n  iscrizioni  \n  \n    \n  \n    \n  \n  20.00\n   \n  \n  Abbinamenti  \n  \n  Giovedì\n  \n  02 Maggio  \n  \n  20.30  \n  \n  1°\n  turno  \n  \n  Martedì\n   \n  \n  07\n  Maggio  \n  \n  20.30\n   \n  \n  2° turno  \n  \n  Giovedì\n  \n  09\n  Maggio  \n  \n  20.30\n   \n  \n  3° turno  \n  \n  Martedì\n   \n  \n  14\n  Maggio  \n  \n  20.30\n   \n  \n  4° turno  \n  \n  Giovedì\n  \n  16\n  Maggio  \n  \n  20.30\n   \n  \n  5° turno  \n  \n  Martedì\n   \n  \n  21\n  Maggio  \n  \n  20.30\n   \n  \n  6° turno  \n  \n  Giovedì\n  \n  23\n  Maggio  \n  \n  20.30\n   \n  \n  7° turno  \n  \n\n\n\n\n\n\n  classifica assoluta:  \n  \n  classifica\n  di categoria:  \n  1° Class.to   €. 80       +  Coppa      1° Class.  Elo < 1800         Buono2° Class.to   €.  70       1° Class.  Elo < 1600         Buono 3° Class.to   €.    50 \n\n\n\n\n\n [rtec-registration-form]   \n\n\n\n\n\n  your web browser and/or your host do not support iframes as required to display the chessboard; alternatively your wordpress theme might suppress the html iframe tag from articles or excerpts
URL:https://sdssm.servehttp.com/evento/primavera2019/
LOCATION:Italia
CATEGORIES:SERALI,Tornei con ELO
ATTACH;FMTTYPE=image/jpeg:https://sdssm.servehttp.com/wp-content/uploads/2019/05/primavera2.jpg
END:VEVENT
END:VCALENDAR