BEGIN:VCALENDAR
VERSION:2.0
PRODID:-//S.D.Scacchistica Milanese - ECPv6.15.20//NONSGML v1.0//EN
CALSCALE:GREGORIAN
METHOD:PUBLISH
X-ORIGINAL-URL:https://sdssm.servehttp.com
X-WR-CALDESC:Eventi per S.D.Scacchistica Milanese
REFRESH-INTERVAL;VALUE=DURATION:PT1H
X-Robots-Tag:noindex
X-PUBLISHED-TTL:PT1H
BEGIN:VTIMEZONE
TZID:Europe/Paris
BEGIN:DAYLIGHT
TZOFFSETFROM:+0100
TZOFFSETTO:+0200
TZNAME:CEST
DTSTART:20180325T010000
END:DAYLIGHT
BEGIN:STANDARD
TZOFFSETFROM:+0200
TZOFFSETTO:+0100
TZNAME:CET
DTSTART:20181028T010000
END:STANDARD
BEGIN:DAYLIGHT
TZOFFSETFROM:+0100
TZOFFSETTO:+0200
TZNAME:CEST
DTSTART:20190331T010000
END:DAYLIGHT
BEGIN:STANDARD
TZOFFSETFROM:+0200
TZOFFSETTO:+0100
TZNAME:CET
DTSTART:20191027T010000
END:STANDARD
BEGIN:DAYLIGHT
TZOFFSETFROM:+0100
TZOFFSETTO:+0200
TZNAME:CEST
DTSTART:20200329T010000
END:DAYLIGHT
BEGIN:STANDARD
TZOFFSETFROM:+0200
TZOFFSETTO:+0100
TZNAME:CET
DTSTART:20201025T010000
END:STANDARD
END:VTIMEZONE
BEGIN:VEVENT
DTSTART;TZID=Europe/Paris:20190707T193000
DTEND;TZID=Europe/Paris:20190707T203000
DTSTAMP:20260423T010758
CREATED:20190621T194106Z
LAST-MODIFIED:20191113T100824Z
UID:10000010-1562527800-1562531400@sdssm.servehttp.com
SUMMARY:..A Voi La Mossa – LUGLIO 2019
DESCRIPTION:A Voi La Mossa – “LUGLIO 2019”   \n\n\n\ndal 05 al 07 LUGLIO  5 turni di gioco  \n\n\n\n\n\n\nA Voi La Mossa – LUGLIO 2019 \n\n\n\n Torneo 60’ + 30” – valido variazioni ELO Riservato a giocatori con ELO inferiore a 1600 5  Turni di gioco: 05\, 06 e 07 Luglio 2019 \n\n\n\nIl contributo spese organizzative è fissato in € 35\, ridotto a € 30 per gli Over 60 e le giocatrici e ad € 25 per gli Under 18.  \n\n\n\nIL TORNEO E’ VALIDO PER LE VARIAZIONE ELO FIDE/ITALIA. \n\n\n\n\n\n\n\nBANDO TORNEODownload\n\n\n\nGLI ABBINAMENTI SONO PUBBLICATI A PURO TITOLO INFORMATIVO E POSSONO SUBIRE VARIAZIONI IN BASE A DECISIONE ARBITRALE\, COME DA RTF VIGENTE\, PRIMA DELL’INIZIO DEL TURNO DI GIOCO \n\n\n\nI GIOCATORI CON ABBINAMENTO “BYE” DEBBONO ESSERE PRESENTI IN SALA GIOCO ALL’INIZIO DEL TURNO \n\n\n\n\n\n   Venerdì      05 Luglio        19.30       \n  Chiusura\n  iscrizioni  \n     Venerdì       05 Luglio         19.45       \n  Abbinamenti  \n     Venerdì   05  Luglio      20.00     \n  1°\n  turno  \n     Sabato          06  Luglio        10.00       \n  2° turno  \n     Sabato      06  Luglio         15.00       \n  3° turno  \n     Domenica          07  Luglio    10.00       \n  4° turno  \n     Domenica   07  Luglio    15.00       \n  5° turno  \n  \n\n\n\n\n\n\n  classifica assoluta:  \n  \n  classifica\n  di categoria:  \n  1° Class.to   €.  70       +  Coppa      1° Class.  NC    Buono Torneo2° Class.to   €.  50       3° Class.to   €.  30 \n\n\n\n\n\n [rtec-registration-form]
URL:https://sdssm.servehttp.com/evento/avoilamossaluglio2019/
LOCATION:Italia
CATEGORIES:Tornei con ELO,WEEK-END
ATTACH;FMTTYPE=image/jpeg:https://sdssm.servehttp.com/wp-content/uploads/2019/05/summer-time.jpg
END:VEVENT
END:VCALENDAR