BEGIN:VCALENDAR
VERSION:2.0
PRODID:-//S.D.Scacchistica Milanese - ECPv6.15.20//NONSGML v1.0//EN
CALSCALE:GREGORIAN
METHOD:PUBLISH
X-WR-CALNAME:S.D.Scacchistica Milanese
X-ORIGINAL-URL:https://sdssm.servehttp.com
X-WR-CALDESC:Eventi per S.D.Scacchistica Milanese
REFRESH-INTERVAL;VALUE=DURATION:PT1H
X-Robots-Tag:noindex
X-PUBLISHED-TTL:PT1H
BEGIN:VTIMEZONE
TZID:Europe/Paris
BEGIN:DAYLIGHT
TZOFFSETFROM:+0100
TZOFFSETTO:+0200
TZNAME:CEST
DTSTART:20180325T010000
END:DAYLIGHT
BEGIN:STANDARD
TZOFFSETFROM:+0200
TZOFFSETTO:+0100
TZNAME:CET
DTSTART:20181028T010000
END:STANDARD
BEGIN:DAYLIGHT
TZOFFSETFROM:+0100
TZOFFSETTO:+0200
TZNAME:CEST
DTSTART:20190331T010000
END:DAYLIGHT
BEGIN:STANDARD
TZOFFSETFROM:+0200
TZOFFSETTO:+0100
TZNAME:CET
DTSTART:20191027T010000
END:STANDARD
BEGIN:DAYLIGHT
TZOFFSETFROM:+0100
TZOFFSETTO:+0200
TZNAME:CEST
DTSTART:20200329T010000
END:DAYLIGHT
BEGIN:STANDARD
TZOFFSETFROM:+0200
TZOFFSETTO:+0100
TZNAME:CET
DTSTART:20201025T010000
END:STANDARD
END:VTIMEZONE
BEGIN:VEVENT
DTSTART;TZID=Europe/Paris:20190730T190000
DTEND;TZID=Europe/Paris:20190810T235900
DTSTAMP:20260423T010710
CREATED:20190621T195824Z
LAST-MODIFIED:20191113T114425Z
UID:10000011-1564513200-1565481540@sdssm.servehttp.com
SUMMARY:OPEN AMATORI
DESCRIPTION:OPEN AMATORI <1800 “AGOSTO 2019” \n\n\n\nDAL 30 LUGLIO AL 04 AGOSTO 2019 \n\n\n\n\n\n\ntorneo aperto a tutti i giocatori in possesso della tessera agonistica FSI per l’anno in corso\, con punteggio Elo inferiore a 1800 punti. Si gioca come da calendario\, con inizio alle ore 20.00: SETTE turni di gioco a sistema Svizzero\, spareggio Buchholz. Valido per le variazioni Elo Fide ed Italia. \n\n\n\n90 minuti + 30 secondi di guadagno a mossa\, a partire dalla prima. \n\n\n\nIl contributo spese organizzative è fissato in € 35\, ridotto a € 30 per gli Over 60 e le giocatrici e ad € 25 per gli Under 18. \n\n\n\nIL TORNEO E’ VALIDO PER LE VARIAZIONE ELO FIDE/ITALIA. \n\n\n\n\n\n\n\nBANDO TORNEODownload\n\n\n\nGLI ABBINAMENTI SONO PUBBLICATI A PURO TITOLO INFORMATIVO E POSSONO SUBIRE VARIAZIONI IN BASE A DECISIONE ARBITRALE\, COME DA RTF VIGENTE\, PRIMA DELL’INIZIO DEL TURNO DI GIOCO \n\n\n\nI GIOCATORI CON ABBINAMENTO “BYE” DEBBONO ESSERE PRESENTI IN SALA GIOCO ALL’INIZIO DEL TURNO \n\n\n\n\n\nMartedì   30 Luglio   19.00       \n  Chiusura\n  iscrizioni  \n  \n    \n  \n    \n     19:30\n  Abbinamenti  \n  Martedì      30  Luglio    20.00     \n  1°\n  turno  \n  Mercoledì   31  Luglio   20.00       \n  2° turno  \n  Giovedì      01 Agosto   20.00       \n  3° turno  \n  Venerdì   02  Agosto   20.00       \n  4° turno  \n  Sabato   03 Giugno        20.00       \n  5° turno  \n  Domenica   04 Agosto   09.30       \n  6° turno  \n  Domenica   04  Agosto   15.00       \n  7° turno  \n  \n\n\n\n\n\n\n  classifica assoluta:  \n  \n  classifica\n  di categoria:  \n  1° Class.to   €. 90       +  Coppa      1° Class.  Elo < 1800         Buono2° Class.to   €.  70       1° Class.  Elo < 1600         Buono 3° Class.to   €.  50 \n\n\n\n\n\n [rtec-registration-form]   \n\n\n\n\n\n  your web browser and/or your host do not support iframes as required to display the chessboard; alternatively your wordpress theme might suppress the html iframe tag from articles or excerpts
URL:https://sdssm.servehttp.com/evento/amatori-agosto-2019/
LOCATION:Italia
CATEGORIES:Tornei con ELO,WEEK-END
ATTACH;FMTTYPE=image/jpeg:https://sdssm.servehttp.com/wp-content/uploads/2019/05/summer-time.jpg
END:VEVENT
END:VCALENDAR