BEGIN:VCALENDAR
VERSION:2.0
PRODID:-//S.D.Scacchistica Milanese - ECPv6.15.20//NONSGML v1.0//EN
CALSCALE:GREGORIAN
METHOD:PUBLISH
X-WR-CALNAME:S.D.Scacchistica Milanese
X-ORIGINAL-URL:https://sdssm.servehttp.com
X-WR-CALDESC:Eventi per S.D.Scacchistica Milanese
REFRESH-INTERVAL;VALUE=DURATION:PT1H
X-Robots-Tag:noindex
X-PUBLISHED-TTL:PT1H
BEGIN:VTIMEZONE
TZID:Europe/Paris
BEGIN:DAYLIGHT
TZOFFSETFROM:+0100
TZOFFSETTO:+0200
TZNAME:CEST
DTSTART:20180325T010000
END:DAYLIGHT
BEGIN:STANDARD
TZOFFSETFROM:+0200
TZOFFSETTO:+0100
TZNAME:CET
DTSTART:20181028T010000
END:STANDARD
BEGIN:DAYLIGHT
TZOFFSETFROM:+0100
TZOFFSETTO:+0200
TZNAME:CEST
DTSTART:20190331T010000
END:DAYLIGHT
BEGIN:STANDARD
TZOFFSETFROM:+0200
TZOFFSETTO:+0100
TZNAME:CET
DTSTART:20191027T010000
END:STANDARD
BEGIN:DAYLIGHT
TZOFFSETFROM:+0100
TZOFFSETTO:+0200
TZNAME:CEST
DTSTART:20200329T010000
END:DAYLIGHT
BEGIN:STANDARD
TZOFFSETFROM:+0200
TZOFFSETTO:+0100
TZNAME:CET
DTSTART:20201025T010000
END:STANDARD
END:VTIMEZONE
BEGIN:VEVENT
DTSTART;TZID=Europe/Paris:20191116T143000
DTEND;TZID=Europe/Paris:20191116T190000
DTSTAMP:20260422T180941
CREATED:20191031T131814Z
LAST-MODIFIED:20191105T120521Z
UID:10000017-1573914600-1573930800@sdssm.servehttp.com
SUMMARY:SCACCHI X TUTTI al CAM GARIBALDI
DESCRIPTION:Formula ed ammissioni: \n\n\n\nTorneo Rapid con abbinamento Svizzero\, spareggio Bucholz \n\n\n\nTurni e cadenza: \n\n\n\nLa manifestazione si svolge su 6 turni\, 15 minuti a giocatore per l’intera partita. \n\n\n\nSede di Gioco: \n\n\n\nPresso il CAM “GARIBALDI – FALCONE E BORSELLINO” \n\n\n\nCorso Garibaldi 27 ang. Via Strehler 2\, Milano MM2\, fermata Lanza. \n\n\n\nISCRIZIONE GRATUITA \n\n\n\nPresso la sede di gioco entro le ore 14.30 del giorno stesso \n\n\n\nPOSTI LIMITATI solo 24 posti disponibili! \n\n\n\nInfo e preiscrizione tramite whatsapp al n° 338 7851997 \n\n\n\nCAPIENZA MASSIMA 40\nGIOCATORI
URL:https://sdssm.servehttp.com/evento/2019-11-16-scacchi-x-tutti-al-cam-garibaldi/
LOCATION:Italia
CATEGORIES:RAPID,SEMILAMPO-LAMPO
ATTACH;FMTTYPE=image/jpeg:https://sdssm.servehttp.com/wp-content/uploads/2019/09/IMG-20190909-WA00004423.jpg
END:VEVENT
END:VCALENDAR